BEGIN:VCALENDAR
VERSION:2.0
PRODID: -//CMS 5.0 //NONSGML //DE
BEGIN:VEVENT
SUMMARY:Abendgottesdienst: »Gott hilft!«
DESCRIPTION:Bibelwort: 1.Samuel 17,37\n\n\n\nhttps://wilhelmshaven.nak-n
 ordost.de/db/593528
UID:593528@wilhelmshaven.nak-nordost.de
LOCATION:
CATEGORIES:Gottesdienst
X-ORGANIZER:
STATUS:CONFIRMED
CLASS:PUBLIC
DTSTART:20260429T173000Z
DTEND:20260429T181500Z
DTSTAMP:20260424T134517Z
CREATED:20260309T210204Z
LAST-MODIFIED:20260309T210249Z
BEGIN:VALARM
UID:D439848E-3FE3-11F1-929F-D6C477372A87
TRIGGER:-PT60M
ACTION:DISPLAY
DESCRIPTION:SUMMARY:Abendgottesdienst: »Gott hilft!«
END:VALARM
END:VEVENT
END:VCALENDAR
