BEGIN:VCALENDAR
VERSION:2.0
PRODID: -//CMS 5.0 //NONSGML //DE
BEGIN:VEVENT
SUMMARY:Konfirmations-Gottesdienst: »Sich zu Christus bekennen«
DESCRIPTION:Bibelwort: Matthäus 10,32\n\nKonfirmation\n\nHier geht es d
 irekt zum Livestream des Gottesdienstes.\n\n\n\nhttps://wilhelmshaven.n
 ak-nordost.de/db/593527
UID:593527@wilhelmshaven.nak-nordost.de
LOCATION:
CATEGORIES:Gottesdienst
X-ORGANIZER:
STATUS:CONFIRMED
CLASS:PUBLIC
DTSTART:20260426T080000Z
DTEND:20260426T090000Z
DTSTAMP:20260424T134922Z
CREATED:20260309T210013Z
LAST-MODIFIED:20260309T210141Z
BEGIN:VALARM
UID:6676D48C-3FE4-11F1-8581-BAC577372A87
TRIGGER:-PT60M
ACTION:DISPLAY
DESCRIPTION:SUMMARY:Konfirmations-Gottesdienst: »Sich zu Christus bekennen«
END:VALARM
END:VEVENT
END:VCALENDAR
